BEGIN:VCALENDAR
PRODID:www.fdp-rlp.de
VERSION:2.0
CALSCALE:GREGORIAN
BEGIN:VEVENT
UID:e3e5e1c4c1e6646f292a06071e38a0ab
DTSTAMP:20260424T125532Z
SUMMARY:gemeinsame Sitzung des LFA Umwelt\, Bau und Städtebau und des LFA 
 Wirtschaft und Verkehr
DTSTART:20260502T080000Z
DTEND;TZID=Europe/Berlin:20260502T235959
LOCATION:
X-MICROSOFT-LOCATIONDISPLAYNAME:
END:VEVENT
END:VCALENDAR
